BEGIN:VCALENDAR
VERSION:2.0
PRODID:-//ANR | Associação Nacional de Restaurantes - ECPv6.15.17.1//NONSGML v1.0//EN
CALSCALE:GREGORIAN
METHOD:PUBLISH
X-WR-CALNAME:ANR | Associação Nacional de Restaurantes
X-ORIGINAL-URL:https://www.anrbrasil.org.br
X-WR-CALDESC:Eventos para ANR | Associação Nacional de Restaurantes
REFRESH-INTERVAL;VALUE=DURATION:PT1H
X-Robots-Tag:noindex
X-PUBLISHED-TTL:PT1H
BEGIN:VTIMEZONE
TZID:America/Sao_Paulo
BEGIN:STANDARD
TZOFFSETFROM:-0300
TZOFFSETTO:-0300
TZNAME:-03
DTSTART:20220101T000000
END:STANDARD
END:VTIMEZONE
BEGIN:VEVENT
DTSTART;TZID=America/Sao_Paulo:20231003T120000
DTEND;TZID=America/Sao_Paulo:20231005T190000
DTSTAMP:20260425T221425
CREATED:20230706T174400Z
LAST-MODIFIED:20230706T174602Z
UID:18144-1696334400-1696532400@www.anrbrasil.org.br
SUMMARY:Prowine
DESCRIPTION:A PRINCIPAL FEIRA PARA PROFISSIONAIS DE VINHOS E DESTILADOS\nA ProWine São Paulo acontecerá de 03 a 05 de Outubro de 2023 das 12:00 às 19:00 no Expo Center Norte. O evento é focado no segmento B2B para a geração de negócios e desenvolvimento da indústria. As inscrições são exclusivas para os profissionais do setor.
URL:https://www.anrbrasil.org.br/agenda-eventos/prowine/
LOCATION:Expo Center Norte\, Rua José Bernardo Pinto\, 333\, São Paulo\, Brazil
ATTACH;FMTTYPE=image/png:https://www.anrbrasil.org.br/wp-content/uploads/2023/07/download-1.png
END:VEVENT
BEGIN:VEVENT
DTSTART;VALUE=DATE:20231005
DTEND;VALUE=DATE:20231006
DTSTAMP:20260425T221425
CREATED:20230706T173223Z
LAST-MODIFIED:20230706T180825Z
UID:18135-1696464000-1696550399@www.anrbrasil.org.br
SUMMARY:Congresso ABIA
DESCRIPTION:SOBRE O CONGRESSO\n– Visibilidade de marca\n– Debate de assuntos relevantes e tendências para o setor\n– Visitantes qualificados de toda cadeia de alimentos\n– Um dos principais eventos do setor\n– Matérias e conteúdos compartilhados nas redes sociais das grandes personalidades do setor
URL:https://www.anrbrasil.org.br/agenda-eventos/congresso-abia/
ATTACH;FMTTYPE=image/png:https://www.anrbrasil.org.br/wp-content/uploads/2023/07/logo-16-congressoprancheta-1-copia-3129.png
END:VEVENT
END:VCALENDAR