BEGIN:VCALENDAR
VERSION:2.0
PRODID:-//ANR | Associação Nacional de Restaurantes - ECPv6.15.17.1//NONSGML v1.0//EN
CALSCALE:GREGORIAN
METHOD:PUBLISH
X-WR-CALNAME:ANR | Associação Nacional de Restaurantes
X-ORIGINAL-URL:https://www.anrbrasil.org.br
X-WR-CALDESC:Eventos para ANR | Associação Nacional de Restaurantes
REFRESH-INTERVAL;VALUE=DURATION:PT1H
X-Robots-Tag:noindex
X-PUBLISHED-TTL:PT1H
BEGIN:VTIMEZONE
TZID:America/Sao_Paulo
BEGIN:STANDARD
TZOFFSETFROM:-0300
TZOFFSETTO:-0300
TZNAME:-03
DTSTART:20220101T000000
END:STANDARD
END:VTIMEZONE
BEGIN:VEVENT
DTSTART;TZID=America/Sao_Paulo:20231107T093000
DTEND;TZID=America/Sao_Paulo:20231107T120000
DTSTAMP:20260425T202927
CREATED:20231016T164800Z
LAST-MODIFIED:20231016T164800Z
UID:19422-1699349400-1699358400@www.anrbrasil.org.br
SUMMARY:Encontro ANR
DESCRIPTION:Encontro ANR para associados e parceiros\nO próximo Encontro ANR está se aproximando\, o evento acontecerá de forma híbrida (presencial e online) e serão abordados os seguintes temas: \n-Cenário Econômico e Panorama 2024\ncom Guilherme Mercês\, economista e CEO da Future Tank\n-Compliance Consumerista – principais infrações (evitáveis) do PROCON\ncom Guilherme Farid\, Advogado e Ex-Presidente do PROCON/SP\n-Gestão de Pessoas:  desafios de recrutamento e seleção de pessoas\ncom Jaime Jimenez\, professor da Fundação Dom Cabral \nO ENCONTRO ANR é exclusivo para associados e parceiros\,  contamos com a sua presença!  \n📆 7 de novembro\n🕐 Das 9h30 às 12h\n📍 Presencial na Sede da Fundação Dom Cabral – Av. Dr. Cardoso de Melo\, 1184 – 15º andar – Vila Olímpia/SP\n👇 Clique no link abaixo para confirmar sua participação \nhttps://bhub.short.gy/Boletim724-EncontroANR
URL:https://www.anrbrasil.org.br/agenda-eventos/encontro-anr-2/
ATTACH;FMTTYPE=image/png:https://www.anrbrasil.org.br/wp-content/uploads/2023/10/ANR-381-ENCONTROS-ANR-2023.pptx-1.png
END:VEVENT
END:VCALENDAR