BEGIN:VCALENDAR
VERSION:2.0
PRODID:-//ANR | Associação Nacional de Restaurantes - ECPv6.15.17.1//NONSGML v1.0//EN
CALSCALE:GREGORIAN
METHOD:PUBLISH
X-ORIGINAL-URL:https://www.anrbrasil.org.br
X-WR-CALDESC:Eventos para ANR | Associação Nacional de Restaurantes
REFRESH-INTERVAL;VALUE=DURATION:PT1H
X-Robots-Tag:noindex
X-PUBLISHED-TTL:PT1H
BEGIN:VTIMEZONE
TZID:America/Sao_Paulo
BEGIN:STANDARD
TZOFFSETFROM:-0300
TZOFFSETTO:-0300
TZNAME:-03
DTSTART:20220101T000000
END:STANDARD
END:VTIMEZONE
BEGIN:VEVENT
DTSTART;TZID=America/Sao_Paulo:20231129T080000
DTEND;TZID=America/Sao_Paulo:20231129T180000
DTSTAMP:20260425T185436
CREATED:20231110T164306Z
LAST-MODIFIED:20231110T164306Z
UID:19548-1701244800-1701280800@www.anrbrasil.org.br
SUMMARY:GALUNION INSIGHTS 2023
DESCRIPTION:Desde 2012\, nós da GALUNION realizamos um evento anual para apresentar tendências e benchmarks com o objetivo de gerar insights importantes para a evolução e crescimento dos negócios em foodservice! \nEsse evento que se originou com o nome de “NRA Insights”\, trazendo uma curadoria dos temas da feira NRA Show para o mercado brasileiro\, passou\, com o tempo\, a incluir outras informações relevantes para o mercado\, como apresentação de pesquisas proprietárias\, palestras sobre inovações e inspirações de outras feiras internacionais e o evento passou a chamar “GALUNION INSIGHTS”. \nApós uma pausa de 2 anos\, devido à pandemia\, o evento retornou em 2022 com um novo formato. Na edição do GALUNION INSIGHTS de 2022\, contamos com mais de 500 pessoas no evento\, 262 empresas presentes\, 18 palestrantes que se destacam no setor e a inédita área Food + Networking\, com 16 stands de marcas relevantes e parceiras que mostraram\, através de seus produtos e na prática\, as tendências discutidas durante as palestras. \nE com todo esse sucesso\, repetiremos a dose este ano!
URL:https://www.anrbrasil.org.br/agenda-eventos/galunion-insights-2023/
LOCATION:Centro Universitário Senac\, Av. Engenheiro Eusébio Stevaux\, 823\, Santo Amaro\, São Paulo\, SP\, Brasil
ATTACH;FMTTYPE=image/jpeg:https://www.anrbrasil.org.br/wp-content/uploads/2023/11/20231011_GalunionInsights2023_bannersite-1536x520-1.jpg
END:VEVENT
END:VCALENDAR