BEGIN:VCALENDAR
VERSION:2.0
PRODID:-//ANR | Associação Nacional de Restaurantes - ECPv6.15.17.1//NONSGML v1.0//EN
CALSCALE:GREGORIAN
METHOD:PUBLISH
X-WR-CALNAME:ANR | Associação Nacional de Restaurantes
X-ORIGINAL-URL:https://www.anrbrasil.org.br
X-WR-CALDESC:Eventos para ANR | Associação Nacional de Restaurantes
REFRESH-INTERVAL;VALUE=DURATION:PT1H
X-Robots-Tag:noindex
X-PUBLISHED-TTL:PT1H
BEGIN:VTIMEZONE
TZID:America/Sao_Paulo
BEGIN:STANDARD
TZOFFSETFROM:-0300
TZOFFSETTO:-0300
TZNAME:-03
DTSTART:20230101T000000
END:STANDARD
END:VTIMEZONE
BEGIN:VEVENT
DTSTART;VALUE=DATE:20240109
DTEND;VALUE=DATE:20240119
DTSTAMP:20260425T172337
CREATED:20231117T144129Z
LAST-MODIFIED:20231117T144129Z
UID:19584-1704758400-1705622399@www.anrbrasil.org.br
SUMMARY:NRF 2024 | GOUVÊA EXPERIENCE
DESCRIPTION:A Comunidade Gouvêa\, com mais de 35 anos de experiência em missões técnicas\, é sua parceira para extrair o máximo da sua participação na NRF. Nossa equipe de especialistas garante que você esteja conectado com as tendências e líderes do varejo. \nAPRESENTAÇÃO NRF 2024
URL:https://www.anrbrasil.org.br/agenda-eventos/nrf-2024-gouvea-experience/
ATTACH;FMTTYPE=image/png:https://www.anrbrasil.org.br/wp-content/uploads/2023/11/Screen-Shot-2023-11-17-at-11.38.53.png
END:VEVENT
END:VCALENDAR