BEGIN:VCALENDAR
VERSION:2.0
PRODID:-//ANR | Associação Nacional de Restaurantes - ECPv6.15.17.1//NONSGML v1.0//EN
CALSCALE:GREGORIAN
METHOD:PUBLISH
X-WR-CALNAME:ANR | Associação Nacional de Restaurantes
X-ORIGINAL-URL:https://www.anrbrasil.org.br
X-WR-CALDESC:Eventos para ANR | Associação Nacional de Restaurantes
REFRESH-INTERVAL;VALUE=DURATION:PT1H
X-Robots-Tag:noindex
X-PUBLISHED-TTL:PT1H
BEGIN:VTIMEZONE
TZID:America/Sao_Paulo
BEGIN:STANDARD
TZOFFSETFROM:-0300
TZOFFSETTO:-0300
TZNAME:-03
DTSTART:20230101T000000
END:STANDARD
END:VTIMEZONE
BEGIN:VEVENT
DTSTART;VALUE=DATE:20240201
DTEND;VALUE=DATE:20240301
DTSTAMP:20260425T153404
CREATED:20240201T142347Z
LAST-MODIFIED:20240201T142438Z
UID:19898-1706745600-1709251199@www.anrbrasil.org.br
SUMMARY:Sindha | Calendário de Cursos Fevereiro
DESCRIPTION:
URL:https://www.anrbrasil.org.br/agenda-eventos/sindha-calendario-de-cursos/
ATTACH;FMTTYPE=image/jpeg:https://www.anrbrasil.org.br/wp-content/uploads/2024/02/WhatsApp-Image-2024-01-31-at-15.20.57.jpeg
END:VEVENT
END:VCALENDAR