BEGIN:VCALENDAR
VERSION:2.0
PRODID:-//ANR | Associação Nacional de Restaurantes - ECPv6.15.17.1//NONSGML v1.0//EN
CALSCALE:GREGORIAN
METHOD:PUBLISH
X-ORIGINAL-URL:https://www.anrbrasil.org.br
X-WR-CALDESC:Eventos para ANR | Associação Nacional de Restaurantes
REFRESH-INTERVAL;VALUE=DURATION:PT1H
X-Robots-Tag:noindex
X-PUBLISHED-TTL:PT1H
BEGIN:VTIMEZONE
TZID:America/Sao_Paulo
BEGIN:STANDARD
TZOFFSETFROM:-0300
TZOFFSETTO:-0300
TZNAME:-03
DTSTART:20230101T000000
END:STANDARD
END:VTIMEZONE
BEGIN:VEVENT
DTSTART;TZID=America/Sao_Paulo:20240611T130000
DTEND;TZID=America/Sao_Paulo:20240614T200000
DTSTAMP:20260425T073342
CREATED:20231110T151845Z
LAST-MODIFIED:20231110T151912Z
UID:19544-1718110800-1718395200@www.anrbrasil.org.br
SUMMARY:FISPAL 2024
DESCRIPTION:A Fispal Food Service e Fispal Sorvetes são o principal e maior evento do setor food service\, para desenvolvimento de negócios\, troca de conhecimento e criação de conexões estratégicas. Na edição de 2023\, foram mais de 52 mil visitantes qualificados em busca de novidades e tendências do mercado\, além de uma rica programação de conteúdos e experiências. \nNosso próximo encontro já tem data marcada: de 11 a 14 de junho de 2024\, no Expo Center Norte\, em São Paulo!
URL:https://www.anrbrasil.org.br/agenda-eventos/fispal-2024/
LOCATION:Expo Center Norte\, Rua José Bernardo Pinto\, 333\, São Paulo\, Brazil
ATTACH;FMTTYPE=image/png:https://www.anrbrasil.org.br/wp-content/uploads/2023/11/Screen-Shot-2023-11-10-at-12.15.22.png
END:VEVENT
BEGIN:VEVENT
DTSTART;TZID=America/Sao_Paulo:20240625T090000
DTEND;TZID=America/Sao_Paulo:20240625T120000
DTSTAMP:20260425T073342
CREATED:20240614T180348Z
LAST-MODIFIED:20240614T180735Z
UID:20263-1719306000-1719316800@www.anrbrasil.org.br
SUMMARY:ENCONTRO ANR
DESCRIPTION:O ENCONTRO ANR\, que acontece este mês\, é gratuito e exclusivo para associados e parceiros ANR. \nO evento é uma ótima oportunidade de networking\, informação e tendências. \nConfira a programação e faça a sua inscrição. 👇 \nAtualizações Jurídicas com Silvia Monteiro e Fábio Cury do Escritório Urbano Vitalino \nBate papo sobre as tendências vistas na NRA 2024 com João Baptista – Diretor de Franquias do Rei do Mate\, Jéssica Carvalho Montes – Gerente de Marketing Seara Food Solutions e Milton Machado – Diretor na Prática\nMediação de Simone Galante\, CEO da GALUNION \nSucesso na Gestão de Operações Multi Marcas com João Adas\, CEO da Cia. Tradicional do Comércio e Bruno Gorodicht\, Sócio Executivo Grupo IMPETTUS\nMediação de Erik Momo\, CEO na Pizzeria 1900 e vice presidente na ANR \n🗓 Data: 25/06 | Terça-feira\n⏰ Horário: 9h às 12h\n📍Local: Restaurante Praça São Lourenço | Rua Casa do Ator\, 608 – Vila Olímpia\, São Paulo \nAs vagas são limitadas! Para quem não puder participar presencialmente\, o evento também será transmitido online através do Zoom. Garanta sua vaga\, clicando no link abaixo. \nhttps://bhub.short.gy/EncontroANR-Junho24
URL:https://www.anrbrasil.org.br/agenda-eventos/encontro-anr-3/
LOCATION:Restaurante Praça São Lourenço\, Rua Casa do Ator\, 608 - Vila Olímpia\, São Paulo\, SP\, Brasil
ATTACH;FMTTYPE=image/png:https://www.anrbrasil.org.br/wp-content/uploads/2024/06/ANR-1313-ENCONTRO-2-1.png
END:VEVENT
END:VCALENDAR